Workbook

Sheet Base A
A1: Agenda du sommeil
A4: NOM: | B4: SEMAINE DÉBUTANT LE jj/mm/aaaa
B5: Exemple | C5: Jour 1 | D5: Jour 2 | E5: Jour 3 | F5: Jour 4 | G5: Jour 5 | H5: Jour 6 | I5: Jour 7 | J5: Moyenne
A6: 1. Hier, j'ai fait la sieste entre _____ et _____ (Notez l'heure de toutes siestes) | B6: 13:30 à 14:30
A7: 2. Hier, j'ai pris _____mg de médicament et/ou_____onces d'alcool pour dormir | B7: Zopiclone 5 mg
A8: 3. Hier soir, je me suis couché(e) à_____(Spécifiez l'heure hh:mm format 24h, par exemple 23:15 plutôt 11:15 PM) Heure de coucher | B8: 0.96875 | C8: 0 | D8: 0 | E8: 0 | F8: 0 | G8: 0 | H8: 0 | I8: 0
A9: 4. Après avoir éteint les lumières, je me suis endormi ( e ) en_____ (hh:mm) Latence d'endormissement (LE) | B9: 0.041666667 | C9: 0 | D9: 0 | E9: 0 | F9: 0 | G9: 0 | H9: 0 | I9: 0
A10: 5. Mon sommeil a été interrompu _____(hh:mm) au total après m'être endormi( e ). Temps d'éveil après endormissement (TEAE) | B10: 0.0625 | C10: 0 | D10: 0 | E10: 0 | F10: 0 | G10: 0 | H10: 0 | I10: 0
A11: 6. Ce matin, je me suis levé(e) à _____ (Spécifiez l'heure hh:mm) | B11: 0.29166667 | C11: 0 | D11: 0 | E11: 0 | F11: 0 | G11: 0 | H11: 0 | I11: 0
A12: 7. Temps total d'éveil (TTE) = 4+5 | B12: 0.10416667 | C12: =C9+C10 -> 0 | D12: =D9+D10 -> 0 | E12: =E9+E10 -> 0 | F12: =F9+F10 -> 0 | G12: =G9+G10 -> 0 | H12: =H9+H10 -> 0 | I12: =I9+I10 -> 0 | J12: =IF(C12>0,AVERAGEIF(C12:I12,"<>0"),0) -> 0
A13: 8. Temps au lit (TAL) = 6-3 | B13: 0.32291667 | C13: =IF(C8>C11,C11+(1-C8),C11-C8) -> 0 | D13: =IF(D8>D11,D11+(1-D8),D11-D8) -> 0 | E13: =IF(E8>E11,E11+(1-E8),E11-E8) -> 0 | F13: =IF(F8>F11,F11+(1-F8),F11-F8) -> 0 | G13: =IF(G8>G11,G11+(1-G8),G11-G8) -> 0 | H13: =IF(H8>H11,H11+(1-H8),H11-H8) -> 0 | I13: =IF(I8>I11,I11+(1-I8),I11-I8) -> 0 | J13: =IF(C13>0,AVERAGEIF(C13:I13,"<>0"),0) -> 0
A14: 9. Temps total de sommeil (TTS) = 8-7 | B14: 0.21875 | C14: =IF(C13>0,C13-C12,0) -> 0 | D14: =IF(D13>0,D13-D12,0) -> 0 | E14: =IF(E13>0,E13-E12,0) -> 0 | F14: =IF(F13>0,F13-F12,0) -> 0 | G14: =IF(G13>0,G13-G12,0) -> 0 | H14: =IF(H13>0,H13-H12,0) -> 0 | I14: =IF(I13>0,I13-I12,0) -> 0 | J14: =IF(C14>0,AVERAGEIF(C14:I14,"<>0"),0) -> 0
A15: 10. Au lever ce matin, je me sentais_____(1=épuisé(e); 5=reposé(e)) | B15: 2
A16: 11. Dans l'ensemble, mon sommeil de la nuit dernière a été_____(1=très agité; 5=très profond) | B16: 3
A17: Efficacité de sommeil (ES)=TTS/TALx100 | B17: =IF(J14>0,MOD(J14,1)/MOD(J13,1)*100,0) -> 0

Sheet Base B
A1: Agenda du sommeil
A4: NOM: | B4: SEMAINE DÉBUTANT LE jj/mm/aaaa
B5: Exemple | C5: Jour 1 | D5: Jour 2 | E5: Jour 3 | F5: Jour 4 | G5: Jour 5 | H5: Jour 6 | I5: Jour 7 | J5: Moyenne
A6: 1. Hier, j'ai fait la sieste entre _____ et _____ (Notez l'heure de toutes siestes) | B6: 13:30 à 14:30
A7: 2. Hier, j'ai pris _____mg de médicament et/ou_____onces d'alcool pour dormir | B7: Zopiclone 5 mg
A8: 3. Hier soir, je me suis couché(e) à_____(Spécifiez l'heure hh:mm format 24h, par exemple 23:15 plutôt 11:15 PM) Heure de coucher | B8: 0.96875 | C8: 0 | D8: 0 | E8: 0 | F8: 0 | G8: 0 | H8: 0 | I8: 0
A9: 4. Après avoir éteint les lumières, je me suis endormi ( e ) en_____ (hh:mm) Latence d'endormissement (LE) | B9: 0.041666667 | C9: 0 | D9: 0 | E9: 0 | F9: 0 | G9: 0 | H9: 0 | I9: 0
A10: 5. Mon sommeil a été interrompu _____(hh:mm) au total après m'être endormi( e ). Temps d'éveil après endormissement (TEAE) | B10: 0.0625 | C10: 0 | D10: 0 | E10: 0 | F10: 0 | G10: 0 | H10: 0 | I10: 0
A11: 6. Ce matin, je me suis levé(e) à _____ (Spécifiez l'heure hh:mm) | B11: 0.29166667 | C11: 0 | D11: 0 | E11: 0 | F11: 0 | G11: 0 | H11: 0 | I11: 0
A12: 7. Temps total d'éveil (TTE) = 4+5 | B12: 0.10416667 | C12: =C9+C10 -> 0 | D12: =D9+D10 -> 0 | E12: =E9+E10 -> 0 | F12: =F9+F10 -> 0 | G12: =G9+G10 -> 0 | H12: =H9+H10 -> 0 | I12: =I9+I10 -> 0 | J12: =IF(C12>0,AVERAGEIF(C12:I12,"<>0"),0) -> 0
A13: 8. Temps au lit (TAL) = 6-3 | B13: 0.32291667 | C13: =IF(C8>C11,C11+(1-C8),C11-C8) -> 0 | D13: =IF(D8>D11,D11+(1-D8),D11-D8) -> 0 | E13: =IF(E8>E11,E11+(1-E8),E11-E8) -> 0 | F13: =IF(F8>F11,F11+(1-F8),F11-F8) -> 0 | G13: =IF(G8>G11,G11+(1-G8),G11-G8) -> 0 | H13: =IF(H8>H11,H11+(1-H8),H11-H8) -> 0 | I13: =IF(I8>I11,I11+(1-I8),I11-I8) -> 0 | J13: =IF(C13>0,AVERAGEIF(C13:I13,"<>0"),0) -> 0
A14: 9. Temps total de sommeil (TTS) = 8-7 | B14: 0.21875 | C14: =IF(C13>0,C13-C12,0) -> 0 | D14: =IF(D13>0,D13-D12,0) -> 0 | E14: =IF(E13>0,E13-E12,0) -> 0 | F14: =IF(F13>0,F13-F12,0) -> 0 | G14: =IF(G13>0,G13-G12,0) -> 0 | H14: =IF(H13>0,H13-H12,0) -> 0 | I14: =IF(I13>0,I13-I12,0) -> 0 | J14: =IF(C14>0,AVERAGEIF(C14:I14,"<>0"),0) -> 0
A15: 10. Au lever ce matin, je me sentais_____(1=épuisé(e); 5=reposé(e)) | B15: 2
A16: 11. Dans l'ensemble, mon sommeil de la nuit dernière a été_____(1=très agité; 5=très profond) | B16: 3
A17: Efficacité de sommeil (ES)=TTS/TALx100 | B17: =IF(J14>0,MOD(J14,1)/MOD(J13,1)*100,0) -> 0

Sheet Base C
A1: Agenda du sommeil
A4: NOM: | B4: SEMAINE DÉBUTANT LE jj/mm/aaaa
B5: Exemple | C5: Jour 1 | D5: Jour 2 | E5: Jour 3 | F5: Jour 4 | G5: Jour 5 | H5: Jour 6 | I5: Jour 7 | J5: Moyenne
A6: 1. Hier, j'ai fait la sieste entre _____ et _____ (Notez l'heure de toutes siestes) | B6: 13:30 à 14:30
A7: 2. Hier, j'ai pris _____mg de médicament et/ou_____onces d'alcool pour dormir | B7: Zopiclone 5 mg
A8: 3. Hier soir, je me suis couché(e) à_____(Spécifiez l'heure hh:mm format 24h, par exemple 23:15 plutôt 11:15 PM) Heure de coucher | B8: 0.96875 | C8: 0 | D8: 0 | E8: 0 | F8: 0 | G8: 0 | H8: 0 | I8: 0
A9: 4. Après avoir éteint les lumières, je me suis endormi ( e ) en_____ (hh:mm) Latence d'endormissement (LE) | B9: 0.041666667 | C9: 0 | D9: 0 | E9: 0 | F9: 0 | G9: 0 | H9: 0 | I9: 0
A10: 5. Mon sommeil a été interrompu _____(hh:mm) au total après m'être endormi( e ). Temps d'éveil après endormissement (TEAE) | B10: 0.0625 | C10: 0 | D10: 0 | E10: 0 | F10: 0 | G10: 0 | H10: 0 | I10: 0
A11: 6. Ce matin, je me suis levé(e) à _____ (Spécifiez l'heure hh:mm) | B11: 0.29166667 | C11: 0 | D11: 0 | E11: 0 | F11: 0 | G11: 0 | H11: 0 | I11: 0
A12: 7. Temps total d'éveil (TTE) = 4+5 | B12: 0.10416667 | C12: =C9+C10 -> 0 | D12: =D9+D10 -> 0 | E12: =E9+E10 -> 0 | F12: =F9+F10 -> 0 | G12: =G9+G10 -> 0 | H12: =H9+H10 -> 0 | I12: =I9+I10 -> 0 | J12: =IF(C12>0,AVERAGEIF(C12:I12,"<>0"),0) -> 0
A13: 8. Temps au lit (TAL) = 6-3 | B13: 0.32291667 | C13: =IF(C8>C11,C11+(1-C8),C11-C8) -> 0 | D13: =IF(D8>D11,D11+(1-D8),D11-D8) -> 0 | E13: =IF(E8>E11,E11+(1-E8),E11-E8) -> 0 | F13: =IF(F8>F11,F11+(1-F8),F11-F8) -> 0 | G13: =IF(G8>G11,G11+(1-G8),G11-G8) -> 0 | H13: =IF(H8>H11,H11+(1-H8),H11-H8) -> 0 | I13: =IF(I8>I11,I11+(1-I8),I11-I8) -> 0 | J13: =IF(C13>0,AVERAGEIF(C13:I13,"<>0"),0) -> 0
A14: 9. Temps total de sommeil (TTS) = 8-7 | B14: 0.21875 | C14: =IF(C13>0,C13-C12,0) -> 0 | D14: =IF(D13>0,D13-D12,0) -> 0 | E14: =IF(E13>0,E13-E12,0) -> 0 | F14: =IF(F13>0,F13-F12,0) -> 0 | G14: =IF(G13>0,G13-G12,0) -> 0 | H14: =IF(H13>0,H13-H12,0) -> 0 | I14: =IF(I13>0,I13-I12,0) -> 0 | J14: =IF(C14>0,AVERAGEIF(C14:I14,"<>0"),0) -> 0
A15: 10. Au lever ce matin, je me sentais_____(1=épuisé(e); 5=reposé(e)) | B15: 2
A16: 11. Dans l'ensemble, mon sommeil de la nuit dernière a été_____(1=très agité; 5=très profond) | B16: 3
A17: Efficacité de sommeil (ES)=TTS/TALx100 | B17: =IF(J14>0,MOD(J14,1)/MOD(J13,1)*100,0) -> 0

Sheet Théra #01
A1: Agenda du sommeil
A4: NOM: | B4: SEMAINE DÉBUTANT LE jj/mm/aaaa
B5: Exemple | C5: Jour 1 | D5: Jour 2 | E5: Jour 3 | F5: Jour 4 | G5: Jour 5 | H5: Jour 6 | I5: Jour 7 | J5: Moyenne
A6: 1. Hier, j'ai fait la sieste entre _____ et _____ (Notez l'heure de toutes siestes) | B6: 13:30 à 14:30
A7: 2. Hier, j'ai pris _____mg de médicament et/ou_____onces d'alcool pour dormir | B7: Zopiclone 5 mg
A8: 3. Hier soir, je me suis couché(e) à_____(Spécifiez l'heure hh:mm format 24h, par exemple 23:15 plutôt 11:15 PM) Heure de coucher | B8: 0.96875 | C8: 0 | D8: 0 | E8: 0 | F8: 0 | G8: 0 | H8: 0 | I8: 0
A9: 4. Après avoir éteint les lumières, je me suis endormi ( e ) en_____ (hh:mm) Latence d'endormissement (LE) | B9: 0.041666667 | C9: 0 | D9: 0 | E9: 0 | F9: 0 | G9: 0 | H9: 0 | I9: 0
A10: 5. Mon sommeil a été interrompu _____(hh:mm) au total après m'être endormi( e ). Temps d'éveil après endormissement (TEAE) | B10: 0.0625 | C10: 0 | D10: 0 | E10: 0 | F10: 0 | G10: 0 | H10: 0 | I10: 0
A11: 6. Ce matin, je me suis levé(e) à _____ (Spécifiez l'heure hh:mm) | B11: 0.29166667 | C11: 0 | D11: 0 | E11: 0 | F11: 0 | G11: 0 | H11: 0 | I11: 0
A12: 7. Temps total d'éveil (TTE) = 4+5 | B12: 0.10416667 | C12: =C9+C10 -> 0 | D12: =D9+D10 -> 0 | E12: =E9+E10 -> 0 | F12: =F9+F10 -> 0 | G12: =G9+G10 -> 0 | H12: =H9+H10 -> 0 | I12: =I9+I10 -> 0 | J12: =IF(C12>0,AVERAGEIF(C12:I12,"<>0"),0) -> 0
A13: 8. Temps au lit (TAL) = 6-3 | B13: 0.32291667 | C13: =IF(C8>C11,C11+(1-C8),C11-C8) -> 0 | D13: =IF(D8>D11,D11+(1-D8),D11-D8) -> 0 | E13: =IF(E8>E11,E11+(1-E8),E11-E8) -> 0 | F13: =IF(F8>F11,F11+(1-F8),F11-F8) -> 0 | G13: =IF(G8>G11,G11+(1-G8),G11-G8) -> 0 | H13: =IF(H8>H11,H11+(1-H8),H11-H8) -> 0 | I13: =IF(I8>I11,I11+(1-I8),I11-I8) -> 0 | J13: =IF(C13>0,AVERAGEIF(C13:I13,"<>0"),0) -> 0
A14: 9. Temps total de sommeil (TTS) = 8-7 | B14: 0.21875 | C14: =IF(C13>0,C13-C12,0) -> 0 | D14: =IF(D13>0,D13-D12,0) -> 0 | E14: =IF(E13>0,E13-E12,0) -> 0 | F14: =IF(F13>0,F13-F12,0) -> 0 | G14: =IF(G13>0,G13-G12,0) -> 0 | H14: =IF(H13>0,H13-H12,0) -> 0 | I14: =IF(I13>0,I13-I12,0) -> 0 | J14: =IF(C14>0,AVERAGEIF(C14:I14,"<>0"),0) -> 0
A15: 10. Au lever ce matin, je me sentais_____(1=épuisé(e); 5=reposé(e)) | B15: 2
A16: 11. Dans l'ensemble, mon sommeil de la nuit dernière a été_____(1=très agité; 5=très profond) | B16: 3
A17: Efficacité de sommeil (ES)=TTS/TALx100 | B17: =IF(J14>0,MOD(J14,1)/MOD(J13,1)*100,0) -> 0

Sheet Théra #02
A1: Agenda du sommeil
A4: NOM: | B4: SEMAINE DÉBUTANT LE jj/mm/aaaa
B5: Exemple | C5: Jour 1 | D5: Jour 2 | E5: Jour 3 | F5: Jour 4 | G5: Jour 5 | H5: Jour 6 | I5: Jour 7 | J5: Moyenne
A6: 1. Hier, j'ai fait la sieste entre _____ et _____ (Notez l'heure de toutes siestes) | B6: 13:30 à 14:30
A7: 2. Hier, j'ai pris _____mg de médicament et/ou_____onces d'alcool pour dormir | B7: Zopiclone 5 mg
A8: 3. Hier soir, je me suis couché(e) à_____(Spécifiez l'heure hh:mm format 24h, par exemple 23:15 plutôt 11:15 PM) Heure de coucher | B8: 0.96875 | C8: 0 | D8: 0 | E8: 0 | F8: 0 | G8: 0 | H8: 0 | I8: 0
A9: 4. Après avoir éteint les lumières, je me suis endormi ( e ) en_____ (hh:mm) Latence d'endormissement (LE) | B9: 0.041666667 | C9: 0 | D9: 0 | E9: 0 | F9: 0 | G9: 0 | H9: 0 | I9: 0
A10: 5. Mon sommeil a été interrompu _____(hh:mm) au total après m'être endormi( e ). Temps d'éveil après endormissement (TEAE) | B10: 0.0625 | C10: 0 | D10: 0 | E10: 0 | F10: 0 | G10: 0 | H10: 0 | I10: 0
A11: 6. Ce matin, je me suis levé(e) à _____ (Spécifiez l'heure hh:mm) | B11: 0.29166667 | C11: 0 | D11: 0 | E11: 0 | F11: 0 | G11: 0 | H11: 0 | I11: 0
A12: 7. Temps total d'éveil (TTE) = 4+5 | B12: 0.10416667 | C12: =C9+C10 -> 0 | D12: =D9+D10 -> 0 | E12: =E9+E10 -> 0 | F12: =F9+F10 -> 0 | G12: =G9+G10 -> 0 | H12: =H9+H10 -> 0 | I12: =I9+I10 -> 0 | J12: =IF(C12>0,AVERAGEIF(C12:I12,"<>0"),0) -> 0
A13: 8. Temps au lit (TAL) = 6-3 | B13: 0.32291667 | C13: =IF(C8>C11,C11+(1-C8),C11-C8) -> 0 | D13: =IF(D8>D11,D11+(1-D8),D11-D8) -> 0 | E13: =IF(E8>E11,E11+(1-E8),E11-E8) -> 0 | F13: =IF(F8>F11,F11+(1-F8),F11-F8) -> 0 | G13: =IF(G8>G11,G11+(1-G8),G11-G8) -> 0 | H13: =IF(H8>H11,H11+(1-H8),H11-H8) -> 0 | I13: =IF(I8>I11,I11+(1-I8),I11-I8) -> 0 | J13: =IF(C13>0,AVERAGEIF(C13:I13,"<>0"),0) -> 0
A14: 9. Temps total de sommeil (TTS) = 8-7 | B14: 0.21875 | C14: =IF(C13>0,C13-C12,0) -> 0 | D14: =IF(D13>0,D13-D12,0) -> 0 | E14: =IF(E13>0,E13-E12,0) -> 0 | F14: =IF(F13>0,F13-F12,0) -> 0 | G14: =IF(G13>0,G13-G12,0) -> 0 | H14: =IF(H13>0,H13-H12,0) -> 0 | I14: =IF(I13>0,I13-I12,0) -> 0 | J14: =IF(C14>0,AVERAGEIF(C14:I14,"<>0"),0) -> 0
A15: 10. Au lever ce matin, je me sentais_____(1=épuisé(e); 5=reposé(e)) | B15: 2
A16: 11. Dans l'ensemble, mon sommeil de la nuit dernière a été_____(1=très agité; 5=très profond) | B16: 3
A17: Efficacité de sommeil (ES)=TTS/TALx100 | B17: =IF(J14>0,MOD(J14,1)/MOD(J13,1)*100,0) -> 0

Sheet Théra #03
A1: Agenda du sommeil
A4: NOM: | B4: SEMAINE DÉBUTANT LE jj/mm/aaaa
B5: Exemple | C5: Jour 1 | D5: Jour 2 | E5: Jour 3 | F5: Jour 4 | G5: Jour 5 | H5: Jour 6 | I5: Jour 7 | J5: Moyenne
A6: 1. Hier, j'ai fait la sieste entre _____ et _____ (Notez l'heure de toutes siestes) | B6: 13:30 à 14:30
A7: 2. Hier, j'ai pris _____mg de médicament et/ou_____onces d'alcool pour dormir | B7: Zopiclone 5 mg
A8: 3. Hier soir, je me suis couché(e) à_____(Spécifiez l'heure hh:mm format 24h, par exemple 23:15 plutôt 11:15 PM) Heure de coucher | B8: 0.96875 | C8: 0 | D8: 0 | E8: 0 | F8: 0 | G8: 0 | H8: 0 | I8: 0
A9: 4. Après avoir éteint les lumières, je me suis endormi ( e ) en_____ (hh:mm) Latence d'endormissement (LE) | B9: 0.041666667 | C9: 0 | D9: 0 | E9: 0 | F9: 0 | G9: 0 | H9: 0 | I9: 0
A10: 5. Mon sommeil a été interrompu _____(hh:mm) au total après m'être endormi( e ). Temps d'éveil après endormissement (TEAE) | B10: 0.0625 | C10: 0 | D10: 0 | E10: 0 | F10: 0 | G10: 0 | H10: 0 | I10: 0
A11: 6. Ce matin, je me suis levé(e) à _____ (Spécifiez l'heure hh:mm) | B11: 0.29166667 | C11: 0 | D11: 0 | E11: 0 | F11: 0 | G11: 0 | H11: 0 | I11: 0
A12: 7. Temps total d'éveil (TTE) = 4+5 | B12: 0.10416667 | C12: =C9+C10 -> 0 | D12: =D9+D10 -> 0 | E12: =E9+E10 -> 0 | F12: =F9+F10 -> 0 | G12: =G9+G10 -> 0 | H12: =H9+H10 -> 0 | I12: =I9+I10 -> 0 | J12: =IF(C12>0,AVERAGEIF(C12:I12,"<>0"),0) -> 0
A13: 8. Temps au lit (TAL) = 6-3 | B13: 0.32291667 | C13: =IF(C8>C11,C11+(1-C8),C11-C8) -> 0 | D13: =IF(D8>D11,D11+(1-D8),D11-D8) -> 0 | E13: =IF(E8>E11,E11+(1-E8),E11-E8) -> 0 | F13: =IF(F8>F11,F11+(1-F8),F11-F8) -> 0 | G13: =IF(G8>G11,G11+(1-G8),G11-G8) -> 0 | H13: =IF(H8>H11,H11+(1-H8),H11-H8) -> 0 | I13: =IF(I8>I11,I11+(1-I8),I11-I8) -> 0 | J13: =IF(C13>0,AVERAGEIF(C13:I13,"<>0"),0) -> 0
A14: 9. Temps total de sommeil (TTS) = 8-7 | B14: 0.21875 | C14: =IF(C13>0,C13-C12,0) -> 0 | D14: =IF(D13>0,D13-D12,0) -> 0 | E14: =IF(E13>0,E13-E12,0) -> 0 | F14: =IF(F13>0,F13-F12,0) -> 0 | G14: =IF(G13>0,G13-G12,0) -> 0 | H14: =IF(H13>0,H13-H12,0) -> 0 | I14: =IF(I13>0,I13-I12,0) -> 0 | J14: =IF(C14>0,AVERAGEIF(C14:I14,"<>0"),0) -> 0
A15: 10. Au lever ce matin, je me sentais_____(1=épuisé(e); 5=reposé(e)) | B15: 2
A16: 11. Dans l'ensemble, mon sommeil de la nuit dernière a été_____(1=très agité; 5=très profond) | B16: 3
A17: Efficacité de sommeil (ES)=TTS/TALx100 | B17: =IF(J14>0,MOD(J14,1)/MOD(J13,1)*100,0) -> 0

Sheet Théra #04
A1: Agenda du sommeil
A4: NOM: | B4: SEMAINE DÉBUTANT LE jj/mm/aaaa
B5: Exemple | C5: Jour 1 | D5: Jour 2 | E5: Jour 3 | F5: Jour 4 | G5: Jour 5 | H5: Jour 6 | I5: Jour 7 | J5: Moyenne
A6: 1. Hier, j'ai fait la sieste entre _____ et _____ (Notez l'heure de toutes siestes) | B6: 13:30 à 14:30
A7: 2. Hier, j'ai pris _____mg de médicament et/ou_____onces d'alcool pour dormir | B7: Zopiclone 5 mg
A8: 3. Hier soir, je me suis couché(e) à_____(Spécifiez l'heure hh:mm format 24h, par exemple 23:15 plutôt 11:15 PM) Heure de coucher | B8: 0.96875 | C8: 0 | D8: 0 | E8: 0 | F8: 0 | G8: 0 | H8: 0 | I8: 0
A9: 4. Après avoir éteint les lumières, je me suis endormi ( e ) en_____ (hh:mm) Latence d'endormissement (LE) | B9: 0.041666667 | C9: 0 | D9: 0 | E9: 0 | F9: 0 | G9: 0 | H9: 0 | I9: 0
A10: 5. Mon sommeil a été interrompu _____(hh:mm) au total après m'être endormi( e ). Temps d'éveil après endormissement (TEAE) | B10: 0.0625 | C10: 0 | D10: 0 | E10: 0 | F10: 0 | G10: 0 | H10: 0 | I10: 0
A11: 6. Ce matin, je me suis levé(e) à _____ (Spécifiez l'heure hh:mm) | B11: 0.29166667 | C11: 0 | D11: 0 | E11: 0 | F11: 0 | G11: 0 | H11: 0 | I11: 0
A12: 7. Temps total d'éveil (TTE) = 4+5 | B12: 0.10416667 | C12: =C9+C10 -> 0 | D12: =D9+D10 -> 0 | E12: =E9+E10 -> 0 | F12: =F9+F10 -> 0 | G12: =G9+G10 -> 0 | H12: =H9+H10 -> 0 | I12: =I9+I10 -> 0 | J12: =IF(C12>0,AVERAGEIF(C12:I12,"<>0"),0) -> 0
A13: 8. Temps au lit (TAL) = 6-3 | B13: 0.32291667 | C13: =IF(C8>C11,C11+(1-C8),C11-C8) -> 0 | D13: =IF(D8>D11,D11+(1-D8),D11-D8) -> 0 | E13: =IF(E8>E11,E11+(1-E8),E11-E8) -> 0 | F13: =IF(F8>F11,F11+(1-F8),F11-F8) -> 0 | G13: =IF(G8>G11,G11+(1-G8),G11-G8) -> 0 | H13: =IF(H8>H11,H11+(1-H8),H11-H8) -> 0 | I13: =IF(I8>I11,I11+(1-I8),I11-I8) -> 0 | J13: =IF(C13>0,AVERAGEIF(C13:I13,"<>0"),0) -> 0
A14: 9. Temps total de sommeil (TTS) = 8-7 | B14: 0.21875 | C14: =IF(C13>0,C13-C12,0) -> 0 | D14: =IF(D13>0,D13-D12,0) -> 0 | E14: =IF(E13>0,E13-E12,0) -> 0 | F14: =IF(F13>0,F13-F12,0) -> 0 | G14: =IF(G13>0,G13-G12,0) -> 0 | H14: =IF(H13>0,H13-H12,0) -> 0 | I14: =IF(I13>0,I13-I12,0) -> 0 | J14: =IF(C14>0,AVERAGEIF(C14:I14,"<>0"),0) -> 0
A15: 10. Au lever ce matin, je me sentais_____(1=épuisé(e); 5=reposé(e)) | B15: 2
A16: 11. Dans l'ensemble, mon sommeil de la nuit dernière a été_____(1=très agité; 5=très profond) | B16: 3
A17: Efficacité de sommeil (ES)=TTS/TALx100 | B17: =IF(J14>0,MOD(J14,1)/MOD(J13,1)*100,0) -> 0

Sheet Théra #05
A1: Agenda du sommeil
A4: NOM: | B4: SEMAINE DÉBUTANT LE jj/mm/aaaa
B5: Exemple | C5: Jour 1 | D5: Jour 2 | E5: Jour 3 | F5: Jour 4 | G5: Jour 5 | H5: Jour 6 | I5: Jour 7 | J5: Moyenne
A6: 1. Hier, j'ai fait la sieste entre _____ et _____ (Notez l'heure de toutes siestes) | B6: 13:30 à 14:30
A7: 2. Hier, j'ai pris _____mg de médicament et/ou_____onces d'alcool pour dormir | B7: Zopiclone 5 mg
A8: 3. Hier soir, je me suis couché(e) à_____(Spécifiez l'heure hh:mm format 24h, par exemple 23:15 plutôt 11:15 PM) Heure de coucher | B8: 0.96875 | C8: 0 | D8: 0 | E8: 0 | F8: 0 | G8: 0 | H8: 0 | I8: 0
A9: 4. Après avoir éteint les lumières, je me suis endormi ( e ) en_____ (hh:mm) Latence d'endormissement (LE) | B9: 0.041666667 | C9: 0 | D9: 0 | E9: 0 | F9: 0 | G9: 0 | H9: 0 | I9: 0
A10: 5. Mon sommeil a été interrompu _____(hh:mm) au total après m'être endormi( e ). Temps d'éveil après endormissement (TEAE) | B10: 0.0625 | C10: 0 | D10: 0 | E10: 0 | F10: 0 | G10: 0 | H10: 0 | I10: 0
A11: 6. Ce matin, je me suis levé(e) à _____ (Spécifiez l'heure hh:mm) | B11: 0.29166667 | C11: 0 | D11: 0 | E11: 0 | F11: 0 | G11: 0 | H11: 0 | I11: 0
A12: 7. Temps total d'éveil (TTE) = 4+5 | B12: 0.10416667 | C12: =C9+C10 -> 0 | D12: =D9+D10 -> 0 | E12: =E9+E10 -> 0 | F12: =F9+F10 -> 0 | G12: =G9+G10 -> 0 | H12: =H9+H10 -> 0 | I12: =I9+I10 -> 0 | J12: =IF(C12>0,AVERAGEIF(C12:I12,"<>0"),0) -> 0
A13: 8. Temps au lit (TAL) = 6-3 | B13: 0.32291667 | C13: =IF(C8>C11,C11+(1-C8),C11-C8) -> 0 | D13: =IF(D8>D11,D11+(1-D8),D11-D8) -> 0 | E13: =IF(E8>E11,E11+(1-E8),E11-E8) -> 0 | F13: =IF(F8>F11,F11+(1-F8),F11-F8) -> 0 | G13: =IF(G8>G11,G11+(1-G8),G11-G8) -> 0 | H13: =IF(H8>H11,H11+(1-H8),H11-H8) -> 0 | I13: =IF(I8>I11,I11+(1-I8),I11-I8) -> 0 | J13: =IF(C13>0,AVERAGEIF(C13:I13,"<>0"),0) -> 0
A14: 9. Temps total de sommeil (TTS) = 8-7 | B14: 0.21875 | C14: =IF(C13>0,C13-C12,0) -> 0 | D14: =IF(D13>0,D13-D12,0) -> 0 | E14: =IF(E13>0,E13-E12,0) -> 0 | F14: =IF(F13>0,F13-F12,0) -> 0 | G14: =IF(G13>0,G13-G12,0) -> 0 | H14: =IF(H13>0,H13-H12,0) -> 0 | I14: =IF(I13>0,I13-I12,0) -> 0 | J14: =IF(C14>0,AVERAGEIF(C14:I14,"<>0"),0) -> 0
A15: 10. Au lever ce matin, je me sentais_____(1=épuisé(e); 5=reposé(e)) | B15: 2
A16: 11. Dans l'ensemble, mon sommeil de la nuit dernière a été_____(1=très agité; 5=très profond) | B16: 3
A17: Efficacité de sommeil (ES)=TTS/TALx100 | B17: =IF(J14>0,MOD(J14,1)/MOD(J13,1)*100,0) -> 0

Sheet Théra #06
A1: Agenda du sommeil
A4: NOM: | B4: SEMAINE DÉBUTANT LE jj/mm/aaaa
B5: Exemple | C5: Jour 1 | D5: Jour 2 | E5: Jour 3 | F5: Jour 4 | G5: Jour 5 | H5: Jour 6 | I5: Jour 7 | J5: Moyenne
A6: 1. Hier, j'ai fait la sieste entre _____ et _____ (Notez l'heure de toutes siestes) | B6: 13:30 à 14:30
A7: 2. Hier, j'ai pris _____mg de médicament et/ou_____onces d'alcool pour dormir | B7: Zopiclone 5 mg
A8: 3. Hier soir, je me suis couché(e) à_____(Spécifiez l'heure hh:mm format 24h, par exemple 23:15 plutôt 11:15 PM) Heure de coucher | B8: 0.96875 | C8: 0 | D8: 0 | E8: 0 | F8: 0 | G8: 0 | H8: 0 | I8: 0
A9: 4. Après avoir éteint les lumières, je me suis endormi ( e ) en_____ (hh:mm) Latence d'endormissement (LE) | B9: 0.041666667 | C9: 0 | D9: 0 | E9: 0 | F9: 0 | G9: 0 | H9: 0 | I9: 0
A10: 5. Mon sommeil a été interrompu _____(hh:mm) au total après m'être endormi( e ). Temps d'éveil après endormissement (TEAE) | B10: 0.0625 | C10: 0 | D10: 0 | E10: 0 | F10: 0 | G10: 0 | H10: 0 | I10: 0
A11: 6. Ce matin, je me suis levé(e) à _____ (Spécifiez l'heure hh:mm) | B11: 0.29166667 | C11: 0 | D11: 0 | E11: 0 | F11: 0 | G11: 0 | H11: 0 | I11: 0
A12: 7. Temps total d'éveil (TTE) = 4+5 | B12: 0.10416667 | C12: =C9+C10 -> 0 | D12: =D9+D10 -> 0 | E12: =E9+E10 -> 0 | F12: =F9+F10 -> 0 | G12: =G9+G10 -> 0 | H12: =H9+H10 -> 0 | I12: =I9+I10 -> 0 | J12: =IF(C12>0,AVERAGEIF(C12:I12,"<>0"),0) -> 0
A13: 8. Temps au lit (TAL) = 6-3 | B13: 0.32291667 | C13: =IF(C8>C11,C11+(1-C8),C11-C8) -> 0 | D13: =IF(D8>D11,D11+(1-D8),D11-D8) -> 0 | E13: =IF(E8>E11,E11+(1-E8),E11-E8) -> 0 | F13: =IF(F8>F11,F11+(1-F8),F11-F8) -> 0 | G13: =IF(G8>G11,G11+(1-G8),G11-G8) -> 0 | H13: =IF(H8>H11,H11+(1-H8),H11-H8) -> 0 | I13: =IF(I8>I11,I11+(1-I8),I11-I8) -> 0 | J13: =IF(C13>0,AVERAGEIF(C13:I13,"<>0"),0) -> 0
A14: 9. Temps total de sommeil (TTS) = 8-7 | B14: 0.21875 | C14: =IF(C13>0,C13-C12,0) -> 0 | D14: =IF(D13>0,D13-D12,0) -> 0 | E14: =IF(E13>0,E13-E12,0) -> 0 | F14: =IF(F13>0,F13-F12,0) -> 0 | G14: =IF(G13>0,G13-G12,0) -> 0 | H14: =IF(H13>0,H13-H12,0) -> 0 | I14: =IF(I13>0,I13-I12,0) -> 0 | J14: =IF(C14>0,AVERAGEIF(C14:I14,"<>0"),0) -> 0
A15: 10. Au lever ce matin, je me sentais_____(1=épuisé(e); 5=reposé(e)) | B15: 2
A16: 11. Dans l'ensemble, mon sommeil de la nuit dernière a été_____(1=très agité; 5=très profond) | B16: 3
A17: Efficacité de sommeil (ES)=TTS/TALx100 | B17: =IF(J14>0,MOD(J14,1)/MOD(J13,1)*100,0) -> 0

Sheet Théra #07
A1: Agenda du sommeil
A4: NOM: | B4: SEMAINE DÉBUTANT LE jj/mm/aaaa
B5: Exemple | C5: Jour 1 | D5: Jour 2 | E5: Jour 3 | F5: Jour 4 | G5: Jour 5 | H5: Jour 6 | I5: Jour 7 | J5: Moyenne
A6: 1. Hier, j'ai fait la sieste entre _____ et _____ (Notez l'heure de toutes siestes) | B6: 13:30 à 14:30
A7: 2. Hier, j'ai pris _____mg de médicament et/ou_____onces d'alcool pour dormir | B7: Zopiclone 5 mg
A8: 3. Hier soir, je me suis couché(e) à_____(Spécifiez l'heure hh:mm format 24h, par exemple 23:15 plutôt 11:15 PM) Heure de coucher | B8: 0.96875 | C8: 0 | D8: 0 | E8: 0 | F8: 0 | G8: 0 | H8: 0 | I8: 0
A9: 4. Après avoir éteint les lumières, je me suis endormi ( e ) en_____ (hh:mm) Latence d'endormissement (LE) | B9: 0.041666667 | C9: 0 | D9: 0 | E9: 0 | F9: 0 | G9: 0 | H9: 0 | I9: 0
A10: 5. Mon sommeil a été interrompu _____(hh:mm) au total après m'être endormi( e ). Temps d'éveil après endormissement (TEAE) | B10: 0.0625 | C10: 0 | D10: 0 | E10: 0 | F10: 0 | G10: 0 | H10: 0 | I10: 0
A11: 6. Ce matin, je me suis levé(e) à _____ (Spécifiez l'heure hh:mm) | B11: 0.29166667 | C11: 0 | D11: 0 | E11: 0 | F11: 0 | G11: 0 | H11: 0 | I11: 0
A12: 7. Temps total d'éveil (TTE) = 4+5 | B12: 0.10416667 | C12: =C9+C10 -> 0 | D12: =D9+D10 -> 0 | E12: =E9+E10 -> 0 | F12: =F9+F10 -> 0 | G12: =G9+G10 -> 0 | H12: =H9+H10 -> 0 | I12: =I9+I10 -> 0 | J12: =IF(C12>0,AVERAGEIF(C12:I12,"<>0"),0) -> 0
A13: 8. Temps au lit (TAL) = 6-3 | B13: 0.32291667 | C13: =IF(C8>C11,C11+(1-C8),C11-C8) -> 0 | D13: =IF(D8>D11,D11+(1-D8),D11-D8) -> 0 | E13: =IF(E8>E11,E11+(1-E8),E11-E8) -> 0 | F13: =IF(F8>F11,F11+(1-F8),F11-F8) -> 0 | G13: =IF(G8>G11,G11+(1-G8),G11-G8) -> 0 | H13: =IF(H8>H11,H11+(1-H8),H11-H8) -> 0 | I13: =IF(I8>I11,I11+(1-I8),I11-I8) -> 0 | J13: =IF(C13>0,AVERAGEIF(C13:I13,"<>0"),0) -> 0
A14: 9. Temps total de sommeil (TTS) = 8-7 | B14: 0.21875 | C14: =IF(C13>0,C13-C12,0) -> 0 | D14: =IF(D13>0,D13-D12,0) -> 0 | E14: =IF(E13>0,E13-E12,0) -> 0 | F14: =IF(F13>0,F13-F12,0) -> 0 | G14: =IF(G13>0,G13-G12,0) -> 0 | H14: =IF(H13>0,H13-H12,0) -> 0 | I14: =IF(I13>0,I13-I12,0) -> 0 | J14: =IF(C14>0,AVERAGEIF(C14:I14,"<>0"),0) -> 0
A15: 10. Au lever ce matin, je me sentais_____(1=épuisé(e); 5=reposé(e)) | B15: 2
A16: 11. Dans l'ensemble, mon sommeil de la nuit dernière a été_____(1=très agité; 5=très profond) | B16: 3
A17: Efficacité de sommeil (ES)=TTS/TALx100 | B17: =IF(J14>0,MOD(J14,1)/MOD(J13,1)*100,0) -> 0

Sheet Théra #08
A1: Agenda du sommeil
A4: NOM: | B4: SEMAINE DÉBUTANT LE jj/mm/aaaa
B5: Exemple | C5: Jour 1 | D5: Jour 2 | E5: Jour 3 | F5: Jour 4 | G5: Jour 5 | H5: Jour 6 | I5: Jour 7 | J5: Moyenne
A6: 1. Hier, j'ai fait la sieste entre _____ et _____ (Notez l'heure de toutes siestes) | B6: 13:30 à 14:30
A7: 2. Hier, j'ai pris _____mg de médicament et/ou_____onces d'alcool pour dormir | B7: Zopiclone 5 mg
A8: 3. Hier soir, je me suis couché(e) à_____(Spécifiez l'heure hh:mm format 24h, par exemple 23:15 plutôt 11:15 PM) Heure de coucher | B8: 0.96875 | C8: 0 | D8: 0 | E8: 0 | F8: 0 | G8: 0 | H8: 0 | I8: 0
A9: 4. Après avoir éteint les lumières, je me suis endormi ( e ) en_____ (hh:mm) Latence d'endormissement (LE) | B9: 0.041666667 | C9: 0 | D9: 0 | E9: 0 | F9: 0 | G9: 0 | H9: 0 | I9: 0
A10: 5. Mon sommeil a été interrompu _____(hh:mm) au total après m'être endormi( e ). Temps d'éveil après endormissement (TEAE) | B10: 0.0625 | C10: 0 | D10: 0 | E10: 0 | F10: 0 | G10: 0 | H10: 0 | I10: 0
A11: 6. Ce matin, je me suis levé(e) à _____ (Spécifiez l'heure hh:mm) | B11: 0.29166667 | C11: 0 | D11: 0 | E11: 0 | F11: 0 | G11: 0 | H11: 0 | I11: 0
A12: 7. Temps total d'éveil (TTE) = 4+5 | B12: 0.10416667 | C12: =C9+C10 -> 0 | D12: =D9+D10 -> 0 | E12: =E9+E10 -> 0 | F12: =F9+F10 -> 0 | G12: =G9+G10 -> 0 | H12: =H9+H10 -> 0 | I12: =I9+I10 -> 0 | J12: =IF(C12>0,AVERAGEIF(C12:I12,"<>0"),0) -> 0
A13: 8. Temps au lit (TAL) = 6-3 | B13: 0.32291667 | C13: =IF(C8>C11,C11+(1-C8),C11-C8) -> 0 | D13: =IF(D8>D11,D11+(1-D8),D11-D8) -> 0 | E13: =IF(E8>E11,E11+(1-E8),E11-E8) -> 0 | F13: =IF(F8>F11,F11+(1-F8),F11-F8) -> 0 | G13: =IF(G8>G11,G11+(1-G8),G11-G8) -> 0 | H13: =IF(H8>H11,H11+(1-H8),H11-H8) -> 0 | I13: =IF(I8>I11,I11+(1-I8),I11-I8) -> 0 | J13: =IF(C13>0,AVERAGEIF(C13:I13,"<>0"),0) -> 0
A14: 9. Temps total de sommeil (TTS) = 8-7 | B14: 0.21875 | C14: =IF(C13>0,C13-C12,0) -> 0 | D14: =IF(D13>0,D13-D12,0) -> 0 | E14: =IF(E13>0,E13-E12,0) -> 0 | F14: =IF(F13>0,F13-F12,0) -> 0 | G14: =IF(G13>0,G13-G12,0) -> 0 | H14: =IF(H13>0,H13-H12,0) -> 0 | I14: =IF(I13>0,I13-I12,0) -> 0 | J14: =IF(C14>0,AVERAGEIF(C14:I14,"<>0"),0) -> 0
A15: 10. Au lever ce matin, je me sentais_____(1=épuisé(e); 5=reposé(e)) | B15: 2
A16: 11. Dans l'ensemble, mon sommeil de la nuit dernière a été_____(1=très agité; 5=très profond) | B16: 3
A17: Efficacité de sommeil (ES)=TTS/TALx100 | B17: =IF(J14>0,MOD(J14,1)/MOD(J13,1)*100,0) -> 0

Sheet Théra #09
A1: Agenda du sommeil
A4: NOM: | B4: SEMAINE DÉBUTANT LE jj/mm/aaaa
B5: Exemple | C5: Jour 1 | D5: Jour 2 | E5: Jour 3 | F5: Jour 4 | G5: Jour 5 | H5: Jour 6 | I5: Jour 7 | J5: Moyenne
A6: 1. Hier, j'ai fait la sieste entre _____ et _____ (Notez l'heure de toutes siestes) | B6: 13:30 à 14:30
A7: 2. Hier, j'ai pris _____mg de médicament et/ou_____onces d'alcool pour dormir | B7: Zopiclone 5 mg
A8: 3. Hier soir, je me suis couché(e) à_____(Spécifiez l'heure hh:mm format 24h, par exemple 23:15 plutôt 11:15 PM) Heure de coucher | B8: 0.96875 | C8: 0 | D8: 0 | E8: 0 | F8: 0 | G8: 0 | H8: 0 | I8: 0
A9: 4. Après avoir éteint les lumières, je me suis endormi ( e ) en_____ (hh:mm) Latence d'endormissement (LE) | B9: 0.041666667 | C9: 0 | D9: 0 | E9: 0 | F9: 0 | G9: 0 | H9: 0 | I9: 0
A10: 5. Mon sommeil a été interrompu _____(hh:mm) au total après m'être endormi( e ). Temps d'éveil après endormissement (TEAE) | B10: 0.0625 | C10: 0 | D10: 0 | E10: 0 | F10: 0 | G10: 0 | H10: 0 | I10: 0
A11: 6. Ce matin, je me suis levé(e) à _____ (Spécifiez l'heure hh:mm) | B11: 0.29166667 | C11: 0 | D11: 0 | E11: 0 | F11: 0 | G11: 0 | H11: 0 | I11: 0
A12: 7. Temps total d'éveil (TTE) = 4+5 | B12: 0.10416667 | C12: =C9+C10 -> 0 | D12: =D9+D10 -> 0 | E12: =E9+E10 -> 0 | F12: =F9+F10 -> 0 | G12: =G9+G10 -> 0 | H12: =H9+H10 -> 0 | I12: =I9+I10 -> 0 | J12: =IF(C12>0,AVERAGEIF(C12:I12,"<>0"),0) -> 0
A13: 8. Temps au lit (TAL) = 6-3 | B13: 0.32291667 | C13: =IF(C8>C11,C11+(1-C8),C11-C8) -> 0 | D13: =IF(D8>D11,D11+(1-D8),D11-D8) -> 0 | E13: =IF(E8>E11,E11+(1-E8),E11-E8) -> 0 | F13: =IF(F8>F11,F11+(1-F8),F11-F8) -> 0 | G13: =IF(G8>G11,G11+(1-G8),G11-G8) -> 0 | H13: =IF(H8>H11,H11+(1-H8),H11-H8) -> 0 | I13: =IF(I8>I11,I11+(1-I8),I11-I8) -> 0 | J13: =IF(C13>0,AVERAGEIF(C13:I13,"<>0"),0) -> 0
A14: 9. Temps total de sommeil (TTS) = 8-7 | B14: 0.21875 | C14: =IF(C13>0,C13-C12,0) -> 0 | D14: =IF(D13>0,D13-D12,0) -> 0 | E14: =IF(E13>0,E13-E12,0) -> 0 | F14: =IF(F13>0,F13-F12,0) -> 0 | G14: =IF(G13>0,G13-G12,0) -> 0 | H14: =IF(H13>0,H13-H12,0) -> 0 | I14: =IF(I13>0,I13-I12,0) -> 0 | J14: =IF(C14>0,AVERAGEIF(C14:I14,"<>0"),0) -> 0
A15: 10. Au lever ce matin, je me sentais_____(1=épuisé(e); 5=reposé(e)) | B15: 2
A16: 11. Dans l'ensemble, mon sommeil de la nuit dernière a été_____(1=très agité; 5=très profond) | B16: 3
A17: Efficacité de sommeil (ES)=TTS/TALx100 | B17: =IF(J14>0,MOD(J14,1)/MOD(J13,1)*100,0) -> 0

Sheet Théra #10
A1: Agenda du sommeil
A4: NOM: | B4: SEMAINE DÉBUTANT LE jj/mm/aaaa
B5: Exemple | C5: Jour 1 | D5: Jour 2 | E5: Jour 3 | F5: Jour 4 | G5: Jour 5 | H5: Jour 6 | I5: Jour 7 | J5: Moyenne
A6: 1. Hier, j'ai fait la sieste entre _____ et _____ (Notez l'heure de toutes siestes) | B6: 13:30 à 14:30
A7: 2. Hier, j'ai pris _____mg de médicament et/ou_____onces d'alcool pour dormir | B7: Zopiclone 5 mg
A8: 3. Hier soir, je me suis couché(e) à_____(Spécifiez l'heure hh:mm format 24h, par exemple 23:15 plutôt 11:15 PM) Heure de coucher | B8: 0.96875 | C8: 0 | D8: 0 | E8: 0 | F8: 0 | G8: 0 | H8: 0 | I8: 0
A9: 4. Après avoir éteint les lumières, je me suis endormi ( e ) en_____ (hh:mm) Latence d'endormissement (LE) | B9: 0.041666667 | C9: 0 | D9: 0 | E9: 0 | F9: 0 | G9: 0 | H9: 0 | I9: 0
A10: 5. Mon sommeil a été interrompu _____(hh:mm) au total après m'être endormi( e ). Temps d'éveil après endormissement (TEAE) | B10: 0.0625 | C10: 0 | D10: 0 | E10: 0 | F10: 0 | G10: 0 | H10: 0 | I10: 0
A11: 6. Ce matin, je me suis levé(e) à _____ (Spécifiez l'heure hh:mm) | B11: 0.29166667 | C11: 0 | D11: 0 | E11: 0 | F11: 0 | G11: 0 | H11: 0 | I11: 0
A12: 7. Temps total d'éveil (TTE) = 4+5 | B12: 0.10416667 | C12: =C9+C10 -> 0 | D12: =D9+D10 -> 0 | E12: =E9+E10 -> 0 | F12: =F9+F10 -> 0 | G12: =G9+G10 -> 0 | H12: =H9+H10 -> 0 | I12: =I9+I10 -> 0 | J12: =IF(C12>0,AVERAGEIF(C12:I12,"<>0"),0) -> 0
A13: 8. Temps au lit (TAL) = 6-3 | B13: 0.32291667 | C13: =IF(C8>C11,C11+(1-C8),C11-C8) -> 0 | D13: =IF(D8>D11,D11+(1-D8),D11-D8) -> 0 | E13: =IF(E8>E11,E11+(1-E8),E11-E8) -> 0 | F13: =IF(F8>F11,F11+(1-F8),F11-F8) -> 0 | G13: =IF(G8>G11,G11+(1-G8),G11-G8) -> 0 | H13: =IF(H8>H11,H11+(1-H8),H11-H8) -> 0 | I13: =IF(I8>I11,I11+(1-I8),I11-I8) -> 0 | J13: =IF(C13>0,AVERAGEIF(C13:I13,"<>0"),0) -> 0
A14: 9. Temps total de sommeil (TTS) = 8-7 | B14: 0.21875 | C14: =IF(C13>0,C13-C12,0) -> 0 | D14: =IF(D13>0,D13-D12,0) -> 0 | E14: =IF(E13>0,E13-E12,0) -> 0 | F14: =IF(F13>0,F13-F12,0) -> 0 | G14: =IF(G13>0,G13-G12,0) -> 0 | H14: =IF(H13>0,H13-H12,0) -> 0 | I14: =IF(I13>0,I13-I12,0) -> 0 | J14: =IF(C14>0,AVERAGEIF(C14:I14,"<>0"),0) -> 0
A15: 10. Au lever ce matin, je me sentais_____(1=épuisé(e); 5=reposé(e)) | B15: 2
A16: 11. Dans l'ensemble, mon sommeil de la nuit dernière a été_____(1=très agité; 5=très profond) | B16: 3
A17: Efficacité de sommeil (ES)=TTS/TALx100 | B17: =IF(J14>0,MOD(J14,1)/MOD(J13,1)*100,0) -> 0

Sheet Suivi_6 mois
A1: Agenda du sommeil
A4: NOM: | B4: SEMAINE DÉBUTANT LE jj/mm/aaaa
B5: Exemple | C5: Jour 1 | D5: Jour 2 | E5: Jour 3 | F5: Jour 4 | G5: Jour 5 | H5: Jour 6 | I5: Jour 7 | J5: Moyenne
A6: 1. Hier, j'ai fait la sieste entre _____ et _____ (Notez l'heure de toutes siestes) | B6: 13:30 à 14:30
A7: 2. Hier, j'ai pris _____mg de médicament et/ou_____onces d'alcool pour dormir | B7: Zopiclone 5 mg
A8: 3. Hier soir, je me suis couché(e) à_____(Spécifiez l'heure hh:mm format 24h, par exemple 23:15 plutôt 11:15 PM) Heure de coucher | B8: 0.96875 | C8: 0 | D8: 0 | E8: 0 | F8: 0 | G8: 0 | H8: 0 | I8: 0
A9: 4. Après avoir éteint les lumières, je me suis endormi ( e ) en_____ (hh:mm) Latence d'endormissement (LE) | B9: 0.041666667 | C9: 0 | D9: 0 | E9: 0 | F9: 0 | G9: 0 | H9: 0 | I9: 0
A10: 5. Mon sommeil a été interrompu _____(hh:mm) au total après m'être endormi( e ). Temps d'éveil après endormissement (TEAE) | B10: 0.0625 | C10: 0 | D10: 0 | E10: 0 | F10: 0 | G10: 0 | H10: 0 | I10: 0
A11: 6. Ce matin, je me suis levé(e) à _____ (Spécifiez l'heure hh:mm) | B11: 0.29166667 | C11: 0 | D11: 0 | E11: 0 | F11: 0 | G11: 0 | H11: 0 | I11: 0
A12: 7. Temps total d'éveil (TTE) = 4+5 | B12: 0.10416667 | C12: =C9+C10 -> 0 | D12: =D9+D10 -> 0 | E12: =E9+E10 -> 0 | F12: =F9+F10 -> 0 | G12: =G9+G10 -> 0 | H12: =H9+H10 -> 0 | I12: =I9+I10 -> 0 | J12: =IF(C12>0,AVERAGEIF(C12:I12,"<>0"),0) -> 0
A13: 8. Temps au lit (TAL) = 6-3 | B13: 0.32291667 | C13: =IF(C8>C11,C11+(1-C8),C11-C8) -> 0 | D13: =IF(D8>D11,D11+(1-D8),D11-D8) -> 0 | E13: =IF(E8>E11,E11+(1-E8),E11-E8) -> 0 | F13: =IF(F8>F11,F11+(1-F8),F11-F8) -> 0 | G13: =IF(G8>G11,G11+(1-G8),G11-G8) -> 0 | H13: =IF(H8>H11,H11+(1-H8),H11-H8) -> 0 | I13: =IF(I8>I11,I11+(1-I8),I11-I8) -> 0 | J13: =IF(C13>0,AVERAGEIF(C13:I13,"<>0"),0) -> 0
A14: 9. Temps total de sommeil (TTS) = 8-7 | B14: 0.21875 | C14: =IF(C13>0,C13-C12,0) -> 0 | D14: =IF(D13>0,D13-D12,0) -> 0 | E14: =IF(E13>0,E13-E12,0) -> 0 | F14: =IF(F13>0,F13-F12,0) -> 0 | G14: =IF(G13>0,G13-G12,0) -> 0 | H14: =IF(H13>0,H13-H12,0) -> 0 | I14: =IF(I13>0,I13-I12,0) -> 0 | J14: =IF(C14>0,AVERAGEIF(C14:I14,"<>0"),0) -> 0
A15: 10. Au lever ce matin, je me sentais_____(1=épuisé(e); 5=reposé(e)) | B15: 2
A16: 11. Dans l'ensemble, mon sommeil de la nuit dernière a été_____(1=très agité; 5=très profond) | B16: 3
A17: Efficacité de sommeil (ES)=TTS/TALx100 | B17: =IF(J14>0,MOD(J14,1)/MOD(J13,1)*100,0) -> 0

Sheet Suivi_1 an
A1: Agenda du sommeil
A4: NOM: | B4: SEMAINE DÉBUTANT LE jj/mm/aaaa
B5: Exemple | C5: Jour 1 | D5: Jour 2 | E5: Jour 3 | F5: Jour 4 | G5: Jour 5 | H5: Jour 6 | I5: Jour 7 | J5: Moyenne
A6: 1. Hier, j'ai fait la sieste entre _____ et _____ (Notez l'heure de toutes siestes) | B6: 13:30 à 14:30
A7: 2. Hier, j'ai pris _____mg de médicament et/ou_____onces d'alcool pour dormir | B7: Zopiclone 5 mg
A8: 3. Hier soir, je me suis couché(e) à_____(Spécifiez l'heure hh:mm format 24h, par exemple 23:15 plutôt 11:15 PM) Heure de coucher | B8: 0.96875 | C8: 0 | D8: 0 | E8: 0 | F8: 0 | G8: 0 | H8: 0 | I8: 0
A9: 4. Après avoir éteint les lumières, je me suis endormi ( e ) en_____ (hh:mm) Latence d'endormissement (LE) | B9: 0.041666667 | C9: 0 | D9: 0 | E9: 0 | F9: 0 | G9: 0 | H9: 0 | I9: 0
A10: 5. Mon sommeil a été interrompu _____(hh:mm) au total après m'être endormi( e ). Temps d'éveil après endormissement (TEAE) | B10: 0.0625 | C10: 0 | D10: 0 | E10: 0 | F10: 0 | G10: 0 | H10: 0 | I10: 0
A11: 6. Ce matin, je me suis levé(e) à _____ (Spécifiez l'heure hh:mm) | B11: 0.29166667 | C11: 0 | D11: 0 | E11: 0 | F11: 0 | G11: 0 | H11: 0 | I11: 0
A12: 7. Temps total d'éveil (TTE) = 4+5 | B12: 0.10416667 | C12: =C9+C10 -> 0 | D12: =D9+D10 -> 0 | E12: =E9+E10 -> 0 | F12: =F9+F10 -> 0 | G12: =G9+G10 -> 0 | H12: =H9+H10 -> 0 | I12: =I9+I10 -> 0 | J12: =IF(C12>0,AVERAGEIF(C12:I12,"<>0"),0) -> 0
A13: 8. Temps au lit (TAL) = 6-3 | B13: 0.32291667 | C13: =IF(C8>C11,C11+(1-C8),C11-C8) -> 0 | D13: =IF(D8>D11,D11+(1-D8),D11-D8) -> 0 | E13: =IF(E8>E11,E11+(1-E8),E11-E8) -> 0 | F13: =IF(F8>F11,F11+(1-F8),F11-F8) -> 0 | G13: =IF(G8>G11,G11+(1-G8),G11-G8) -> 0 | H13: =IF(H8>H11,H11+(1-H8),H11-H8) -> 0 | I13: =IF(I8>I11,I11+(1-I8),I11-I8) -> 0 | J13: =IF(C13>0,AVERAGEIF(C13:I13,"<>0"),0) -> 0
A14: 9. Temps total de sommeil (TTS) = 8-7 | B14: 0.21875 | C14: =IF(C13>0,C13-C12,0) -> 0 | D14: =IF(D13>0,D13-D12,0) -> 0 | E14: =IF(E13>0,E13-E12,0) -> 0 | F14: =IF(F13>0,F13-F12,0) -> 0 | G14: =IF(G13>0,G13-G12,0) -> 0 | H14: =IF(H13>0,H13-H12,0) -> 0 | I14: =IF(I13>0,I13-I12,0) -> 0 | J14: =IF(C14>0,AVERAGEIF(C14:I14,"<>0"),0) -> 0
A15: 10. Au lever ce matin, je me sentais_____(1=épuisé(e); 5=reposé(e)) | B15: 2
A16: 11. Dans l'ensemble, mon sommeil de la nuit dernière a été_____(1=très agité; 5=très profond) | B16: 3
A17: Efficacité de sommeil (ES)=TTS/TALx100 | B17: =IF(J14>0,MOD(J14,1)/MOD(J13,1)*100,0) -> 0

Sheet Résumé de thérapie
B1: Résumé de thérapie
C2: Ligne de base | F2: Thérapie | P2: Suivi
B3: Semaine | C3: A | D3: B | E3: C | F3: 1 | G3: 2 | H3: 3 | I3: 4 | J3: 5 | K3: 6 | L3: 7 | M3: 8 | N3: 9 | O3: 10 | P3: 6 mois | Q3: 1 an
B4: TTE (Temps total d'éveil) | C4: ='Base A'!J12 -> 0 | D4: ='Base B'!J12 -> 0 | E4: ='Base C'!J12 -> 0 | F4: ='Théra #01'!J12 -> 0 | G4: ='Théra #02'!J12 -> 0 | H4: ='Théra #03'!J12 -> 0 | I4: ='Théra #04'!J12 -> 0 | J4: ='Théra #05'!J12 -> 0 | K4: ='Théra #06'!J12 -> 0 | L4: ='Théra #07'!J12 -> 0 | M4: ='Théra #08'!J12 -> 0 | N4: ='Théra #09'!J12 -> 0 | O4: ='Théra #10'!J12 -> 0
B5: TAL (Temps au lit) | C5: ='Base A'!J13 -> 0 | D5: ='Base B'!J13 -> 0 | E5: ='Base C'!J13 -> 0 | F5: ='Théra #01'!J13 -> 0 | G5: ='Théra #02'!J13 -> 0 | H5: ='Théra #03'!J13 -> 0 | I5: ='Théra #04'!J13 -> 0 | J5: ='Théra #05'!J13 -> 0 | K5: ='Théra #06'!J13 -> 0 | L5: ='Théra #07'!J13 -> 0 | M5: ='Théra #08'!J13 -> 0 | N5: ='Théra #09'!J13 -> 0 | O5: ='Théra #10'!J13 -> 0
B6: TTS (Temps total de sommeil) | C6: ='Base A'!J14 -> 0 | D6: ='Base B'!J14 -> 0 | E6: ='Base C'!J14 -> 0 | F6: ='Théra #01'!J14 -> 0 | G6: ='Théra #02'!J14 -> 0 | H6: ='Théra #03'!J14 -> 0 | I6: ='Théra #04'!J14 -> 0 | J6: ='Théra #05'!J14 -> 0 | K6: ='Théra #06'!J14 -> 0 | L6: ='Théra #07'!J14 -> 0 | M6: ='Théra #08'!J14 -> 0 | N6: ='Théra #09'!J14 -> 0 | O6: ='Théra #10'!J14 -> 0
B7: ES (Efficacité du sommeil) | C7: ='Base A'!$B$17 -> 0 | D7: ='Base B'!$B$17 -> 0 | E7: ='Base C'!$B$17 -> 0 | F7: ='Théra #01'!$B$17 -> 0 | G7: ='Théra #02'!$B$17 -> 0 | H7: ='Théra #03'!$B$17 -> 0 | I7: ='Théra #04'!$B$17 -> 0 | J7: ='Théra #05'!$B$17 -> 0 | K7: ='Théra #06'!$B$17 -> 0 | L7: ='Théra #07'!$B$17 -> 0 | M7: ='Théra #08'!$B$17 -> 0 | N7: ='Théra #09'!$B$17 -> 0 | O7: ='Théra #10'!$B$17 -> 0
B8: Index de sévérité de l'insomnie (ISI) | D8: 0 | E8: 0 | F8: 0 | G8: 0 | H8: 0 | I8: 0 | J8: 0 | K8: 0 | L8: 0 | M8: 0 | N8: 0 | O8: 0

Sheet Feuil2

Sheet Feuil3
